BEGIN:VCALENDAR
VERSION:2.0
PRODID:-//Falcon-HVAC - ECPv6.7.0//NONSGML v1.0//EN
CALSCALE:GREGORIAN
METHOD:PUBLISH
X-WR-CALNAME:Falcon-HVAC
X-ORIGINAL-URL:https://falcon-hvac.com
X-WR-CALDESC:Events for Falcon-HVAC
REFRESH-INTERVAL;VALUE=DURATION:PT1H
X-Robots-Tag:noindex
X-PUBLISHED-TTL:PT1H
BEGIN:VTIMEZONE
TZID:UTC
BEGIN:STANDARD
TZOFFSETFROM:+0000
TZOFFSETTO:+0000
TZNAME:UTC
DTSTART:20160101T000000
END:STANDARD
END:VTIMEZONE
BEGIN:VEVENT
DTSTART;VALUE=DATE:20231001
DTEND;VALUE=DATE:20231101
DTSTAMP:20260423T194933
CREATED:20231001T035842Z
LAST-MODIFIED:20231001T041555Z
UID:2575-1696118400-1698796799@falcon-hvac.com
SUMMARY:Special Offer During October - Get a tune up for only $89.00!
DESCRIPTION:Fall Tune Up\n\nCheck Burners & Heat Exchanger\nCheck Fuel Supply and Pressure\nCheck Igniter or Pilot Assembly                       \nCheck fan operation and oil motor                                                                 \nCheck air filter and air flow thru ducts        \nClean and check drain                 \nCheck thermostat operation\nCheck flue Piping \nCheck electrical controls
URL:https://falcon-hvac.com/special-offer/special-offer-during-october-get-a-tune-up-for-only-89-00/
ATTACH;FMTTYPE=image/jpeg:https://falcon-hvac.com/wp-content/uploads/2023/10/HVAC-scaled.jpeg
END:VEVENT
BEGIN:VEVENT
DTSTART;VALUE=DATE:20230914
DTEND;VALUE=DATE:20231126
DTSTAMP:20260423T194933
CREATED:20170419T232603Z
LAST-MODIFIED:20230914T144348Z
UID:2308-1694649600-1700956799@falcon-hvac.com
SUMMARY:Fall 2023 Tune-up $89.00
DESCRIPTION:Winter Is Coming!\nGet ready for the cold with a Fall Precision Furnace Tune-up! \n\nCheck Burners & Heat Exchanger\nCheck Fuel Supply and Pressure\nCheck Igniter or Pilot Assembly\nCheck fan operation and oil motor\nCheck air filter and air flow thru ducts\nClean and check drain\nCheck thermostat operation\nCheck flue Piping\nCheck electrical controls
URL:https://falcon-hvac.com/special-offer/precision-spring-tune-up-79-95/
CATEGORIES:Special Offers
ATTACH;FMTTYPE=image/jpeg:https://falcon-hvac.com/wp-content/uploads/2017/04/Stressfrei_Kaufen_gluecklich-e1489928924170.jpg
END:VEVENT
BEGIN:VEVENT
DTSTART;TZID=UTC:20170901T080000
DTEND;TZID=UTC:20171101T170000
DTSTAMP:20260423T194933
CREATED:20170817T160458Z
LAST-MODIFIED:20170817T160911Z
UID:2494-1504252800-1509555600@falcon-hvac.com
SUMMARY:Precision Autumn Tune-up $79.95
DESCRIPTION:Autumn is here!\nWinter is coming! Be prepared with a precision furnace tune-up!
URL:https://falcon-hvac.com/special-offer/precision-autumn-tune-up-79-95/
CATEGORIES:Special Offers
END:VEVENT
BEGIN:VEVENT
DTSTART;TZID=UTC:20161215T080000
DTEND;TZID=UTC:20170215T170000
DTSTAMP:20260423T194933
CREATED:20170114T155946Z
LAST-MODIFIED:20170114T155946Z
UID:2134-1481788800-1487178000@falcon-hvac.com
SUMMARY:Winter Special- 25$ off Any Service
DESCRIPTION:Not to be combine with other services.
URL:https://falcon-hvac.com/special-offer/winter-special-25-off-any-service-3/
CATEGORIES:Special Offers
ATTACH;FMTTYPE=image/jpeg:https://falcon-hvac.com/wp-content/uploads/2016/10/apart08-1.jpg
END:VEVENT
BEGIN:VEVENT
DTSTART;TZID=UTC:20161215T080000
DTEND;TZID=UTC:20170215T170000
DTSTAMP:20260423T194933
CREATED:20170114T155946Z
LAST-MODIFIED:20170114T155946Z
UID:2007-1481788800-1487178000@falcon-hvac.com
SUMMARY:Winter Special- 25$ off Any Service
DESCRIPTION:Not to be combine with other services.
URL:https://falcon-hvac.com/special-offer/winter-special-25-off-any-service/
CATEGORIES:Special Offers
ATTACH;FMTTYPE=image/jpeg:https://falcon-hvac.com/wp-content/uploads/2016/10/apart08-1.jpg
END:VEVENT
BEGIN:VEVENT
DTSTART;TZID=UTC:20161215T080000
DTEND;TZID=UTC:20170215T170000
DTSTAMP:20260423T194933
CREATED:20170114T155946Z
LAST-MODIFIED:20170114T155946Z
UID:2118-1481788800-1487178000@falcon-hvac.com
SUMMARY:Winter Special- 25$ off Any Service
DESCRIPTION:Not to be combine with other services.
URL:https://falcon-hvac.com/special-offer/winter-special-25-off-any-service-2/
CATEGORIES:Special Offers
ATTACH;FMTTYPE=image/jpeg:https://falcon-hvac.com/wp-content/uploads/2016/10/apart08-1.jpg
END:VEVENT
BEGIN:VEVENT
DTSTART;TZID=UTC:20161020T080000
DTEND;TZID=UTC:20161231T170000
DTSTAMP:20260423T194933
CREATED:20160923T112450Z
LAST-MODIFIED:20160923T112450Z
UID:662-1476950400-1483203600@falcon-hvac.com
SUMMARY:$159  Fall Savings!
DESCRIPTION:May be applied to your next Service Call\, Heating Maintenance or Repair.\nMention this offer when you call to schedule your appointment.
URL:https://falcon-hvac.com/special-offer/winter-filters-cleaning/
LOCATION:NY\, United States
CATEGORIES:Special Offers
END:VEVENT
BEGIN:VEVENT
DTSTART;TZID=UTC:20161020T080000
DTEND;TZID=UTC:20161231T170000
DTSTAMP:20260423T194933
CREATED:20160923T112450Z
LAST-MODIFIED:20160923T112450Z
UID:2106-1476950400-1483203600@falcon-hvac.com
SUMMARY:$159  Fall Savings!
DESCRIPTION:May be applied to your next Service Call\, Heating Maintenance or Repair.\nMention this offer when you call to schedule your appointment.
URL:https://falcon-hvac.com/special-offer/winter-filters-cleaning-2/
LOCATION:NY\, United States
CATEGORIES:Special Offers
END:VEVENT
BEGIN:VEVENT
DTSTART;TZID=UTC:20161020T080000
DTEND;TZID=UTC:20161231T170000
DTSTAMP:20260423T194933
CREATED:20160923T112450Z
LAST-MODIFIED:20160923T112450Z
UID:2130-1476950400-1483203600@falcon-hvac.com
SUMMARY:$159  Fall Savings!
DESCRIPTION:May be applied to your next Service Call\, Heating Maintenance or Repair.\nMention this offer when you call to schedule your appointment.
URL:https://falcon-hvac.com/special-offer/winter-filters-cleaning-3/
LOCATION:NY\, United States
CATEGORIES:Special Offers
END:VEVENT
BEGIN:VEVENT
DTSTART;TZID=UTC:20161020T080000
DTEND;TZID=UTC:20161231T170000
DTSTAMP:20260423T194933
CREATED:20160923T112450Z
LAST-MODIFIED:20160923T112450Z
UID:2158-1476950400-1483203600@falcon-hvac.com
SUMMARY:$159  Fall Savings!
DESCRIPTION:May be applied to your next Service Call\, Heating Maintenance or Repair.\nMention this offer when you call to schedule your appointment.
URL:https://falcon-hvac.com/special-offer/winter-filters-cleaning-4/
LOCATION:NY\, United States
CATEGORIES:Special Offers
END:VEVENT
END:VCALENDAR