BEGIN:VCALENDAR
VERSION:2.0
PRODID:-//Falcon-HVAC - ECPv6.7.0//NONSGML v1.0//EN
CALSCALE:GREGORIAN
METHOD:PUBLISH
X-ORIGINAL-URL:https://falcon-hvac.com
X-WR-CALDESC:Events for Falcon-HVAC
REFRESH-INTERVAL;VALUE=DURATION:PT1H
X-Robots-Tag:noindex
X-PUBLISHED-TTL:PT1H
BEGIN:VTIMEZONE
TZID:UTC
BEGIN:STANDARD
TZOFFSETFROM:+0000
TZOFFSETTO:+0000
TZNAME:UTC
DTSTART:20230101T000000
END:STANDARD
END:VTIMEZONE
BEGIN:VEVENT
DTSTART;VALUE=DATE:20230914
DTEND;VALUE=DATE:20231126
DTSTAMP:20260425T165405
CREATED:20170419T232603Z
LAST-MODIFIED:20230914T144348Z
UID:2308-1694649600-1700956799@falcon-hvac.com
SUMMARY:Fall 2023 Tune-up $89.00
DESCRIPTION:Winter Is Coming!\nGet ready for the cold with a Fall Precision Furnace Tune-up! \n\nCheck Burners & Heat Exchanger\nCheck Fuel Supply and Pressure\nCheck Igniter or Pilot Assembly\nCheck fan operation and oil motor\nCheck air filter and air flow thru ducts\nClean and check drain\nCheck thermostat operation\nCheck flue Piping\nCheck electrical controls
URL:https://falcon-hvac.com/special-offer/precision-spring-tune-up-79-95/
CATEGORIES:Special Offers
ATTACH;FMTTYPE=image/jpeg:https://falcon-hvac.com/wp-content/uploads/2017/04/Stressfrei_Kaufen_gluecklich-e1489928924170.jpg
END:VEVENT
END:VCALENDAR